BEGIN:VCALENDAR
VERSION:2.0
PRODID:-//NHH //NONSGML v1.0//NO
BEGIN:VEVENT
UID:https://www.nhh.no/kalender/konferanser/2026/styrekonferansen/
DTSTAMP:20260424T140236Z
DTSTART:20261111T140000Z
DTEND:20261111T164500Z
SUMMARY:Styrekonferansen 2026
DESCRIPTION:NHH og NHH Executive inviterer til Styrekonferansen i NHHs lokaler i Oslo. https://www.nhh.no/kalender/konferanser/2026/styrekonferansen/
X-ALT-DESC;FMTTYPE=text/html:NHH og NHH Executive inviterer til Styrekonferansen i NHHs lokaler i Oslo.<br /> <br /> Microsoft.AspNetCore.Mvc.Rendering.TagBuilder
LOCATION:NHH Campus Oslo 
URL:https://www.nhh.no/kalender/konferanser/2026/styrekonferansen/
END:VEVENT
END:VCALENDAR