BEGIN:VCALENDAR
VERSION:2.0
PRODID:-//NHH //NONSGML v1.0//NO
BEGIN:VEVENT
UID:https://www.nhh.no/en/calendar/fair/2025/fair-seminar-2025-spring/suresh-naidu/
DTSTAMP:20260424T155023Z
DTSTART:20250918T101500Z
DTEND:20250918T111500Z
SUMMARY:Suresh Naidu
DESCRIPTION:We invite you to a FAIR Seminar with Suresh Naidu. Naidu is a​ Professor of International and Public Affairs and Jack Wang and Echo Ren at the University of California, Berkeley.  His research interests encompass political economy and economic history, focusing on the economics of slavery, labor unions, and the economic effects of democracy and dictatorship. https://www.nhh.no/en/calendar/fair/2025/fair-seminar-2025-spring/suresh-naidu/
X-ALT-DESC;FMTTYPE=text/html:We invite you to a FAIR Seminar with Suresh Naidu. Naidu is a​ Professor of International and Public Affairs and Jack Wang and Echo Ren at the University of California, Berkeley.  His research interests encompass political economy and economic history, focusing on the economics of slavery, labor unions, and the economic effects of democracy and dictatorship.<br /> <br /> Microsoft.AspNetCore.Mvc.Rendering.TagBuilder
LOCATION:FAIR, E209/E210
URL:https://www.nhh.no/en/calendar/fair/2025/fair-seminar-2025-spring/suresh-naidu/
END:VEVENT
END:VCALENDAR