BEGIN:VCALENDAR
VERSION:2.0
PRODID:-//NHH //NONSGML v1.0//NO
BEGIN:VEVENT
UID:https://www.nhh.no/en/calendar/fair/2025/fair-seminar-2025-spring/raj-chetty/
DTSTAMP:20260424T155024Z
DTSTART:20251118T150000Z
DTEND:20251118T163000Z
SUMMARY:Raj Chetty
DESCRIPTION:We invite you to a FAIR Onlin Seminar with Raj Chetty. Chetty is the William A. Ackman Professor of Economics at Harvard University and the Director of Opportunity Insights, which uses big data to study the science of economic opportunity: how we can give children from all backgrounds better chances of succeeding? https://www.nhh.no/en/calendar/fair/2025/fair-seminar-2025-spring/raj-chetty/
X-ALT-DESC;FMTTYPE=text/html:We invite you to a FAIR Onlin Seminar with Raj Chetty. Chetty is the William A. Ackman Professor of Economics at Harvard University and the Director of Opportunity Insights, which uses big data to study the science of economic opportunity: how we can give children from all backgrounds better chances of succeeding?<br /> <br /> Microsoft.AspNetCore.Mvc.Rendering.TagBuilder
LOCATION:FAIR, E209/E210
URL:https://www.nhh.no/en/calendar/fair/2025/fair-seminar-2025-spring/raj-chetty/
END:VEVENT
END:VCALENDAR