BEGIN:VCALENDAR
VERSION:2.0
PRODID:-//NHH //NONSGML v1.0//NO
BEGIN:VEVENT
UID:https://www.nhh.no/en/calendar/fair/2025/fair-seminar-2025-spring/paolo-falco/
DTSTAMP:20260424T155121Z
DTSTART:20250320T111500Z
DTEND:20250320T121500Z
SUMMARY:Paolo Falco
DESCRIPTION:We invite you to a FAIR Seminar with Paolo Falco. Paolo is an Associate Professor at the University of Copenhagen. Dis research uses experiments to study human behaviour in different domains. Most of his work aims to understand how we can improve the functioning of labour markets and remove obstacles for the most disadvantaged workers. 
 https://www.nhh.no/en/calendar/fair/2025/fair-seminar-2025-spring/paolo-falco/
X-ALT-DESC;FMTTYPE=text/html:We invite you to a FAIR Seminar with Paolo Falco. Paolo is an Associate Professor at the University of Copenhagen. Dis research uses experiments to study human behaviour in different domains. Most of his work aims to understand how we can improve the functioning of labour markets and remove obstacles for the most disadvantaged workers. 
<br /> <br /> Microsoft.AspNetCore.Mvc.Rendering.TagBuilder
LOCATION:
URL:https://www.nhh.no/en/calendar/fair/2025/fair-seminar-2025-spring/paolo-falco/
END:VEVENT
END:VCALENDAR