BEGIN:VCALENDAR
VERSION:2.0
PRODID:-//NHH //NONSGML v1.0//NO
BEGIN:VEVENT
UID:https://www.nhh.no/en/calendar/fair/2025/fair-seminar-2025-spring/kelly-shue/
DTSTAMP:20260424T155146Z
DTSTART:20250612T101500Z
DTEND:20250612T111500Z
SUMMARY:Kelly Shue
DESCRIPTION:We invite you to a FAIR Seminar with Kelly Shue. Kelly is an Amman Mineral Professor of Finance at Yale School of Mangement. Her research has explored sustainable investing, the Peter Principle, compensation and promotions, gender and negotiations, the gambler's fallacy, contrast effects, and non-proportional thinking in asset pricing.
 https://www.nhh.no/en/calendar/fair/2025/fair-seminar-2025-spring/kelly-shue/
X-ALT-DESC;FMTTYPE=text/html:We invite you to a FAIR Seminar with Kelly Shue. Kelly is an Amman Mineral Professor of Finance at Yale School of Mangement. Her research has explored sustainable investing, the Peter Principle, compensation and promotions, gender and negotiations, the gambler's fallacy, contrast effects, and non-proportional thinking in asset pricing.
<br /> <br /> Microsoft.AspNetCore.Mvc.Rendering.TagBuilder
LOCATION:
URL:https://www.nhh.no/en/calendar/fair/2025/fair-seminar-2025-spring/kelly-shue/
END:VEVENT
END:VCALENDAR