BEGIN:VCALENDAR
VERSION:2.0
PRODID:-//NHH //NONSGML v1.0//NO
BEGIN:VEVENT
UID:https://www.nhh.no/en/calendar/fair/2025/fair-seminar-2025-spring/katrin-godker/
DTSTAMP:20260424T155024Z
DTSTART:20251023T101500Z
DTEND:20251023T111500Z
SUMMARY:Katrin Gödker
DESCRIPTION:We invite you to a FAIR Seminar with Katrin Gödker. Gödker is an Assistant Professor of Finance at Bocconi University, CESifo and IGIER Affiliate. She is an empiricist working in the field of Behavioral Finance. Much of her work studies investor beliefs and how they affect investor behavior using experiments (lab, online, and field) as well as archival datasets. https://www.nhh.no/en/calendar/fair/2025/fair-seminar-2025-spring/katrin-godker/
X-ALT-DESC;FMTTYPE=text/html:We invite you to a FAIR Seminar with Katrin Gödker. Gödker is an Assistant Professor of Finance at Bocconi University, CESifo and IGIER Affiliate. She is an empiricist working in the field of Behavioral Finance. Much of her work studies investor beliefs and how they affect investor behavior using experiments (lab, online, and field) as well as archival datasets.<br /> <br /> Microsoft.AspNetCore.Mvc.Rendering.TagBuilder
LOCATION:FAIR, E209/E210
URL:https://www.nhh.no/en/calendar/fair/2025/fair-seminar-2025-spring/katrin-godker/
END:VEVENT
END:VCALENDAR