BEGIN:VCALENDAR
VERSION:2.0
PRODID:-//NHH //NONSGML v1.0//NO
BEGIN:VEVENT
UID:https://www.nhh.no/en/calendar/fair/2025/fair-seminar-2025-spring/chinhui-juhn/
DTSTAMP:20260424T155122Z
DTSTART:20250526T143000Z
DTEND:20250526T163000Z
SUMMARY:Chinhui Juhn
DESCRIPTION:Join us in FAIR-1 for a streamed Online Seminar with Chinhui Juhn (University of Chicago). You're welcome to join us in person to watch the talk, participate in the discussion, and enjoy some tapas beforehand from 16:30. The title is her talk is "Task Requirements, Time Requirements, and the Gender Gap in Jobs and Pay". https://www.nhh.no/en/calendar/fair/2025/fair-seminar-2025-spring/chinhui-juhn/
X-ALT-DESC;FMTTYPE=text/html:Join us in FAIR-1 for a streamed Online Seminar with Chinhui Juhn (University of Chicago). You're welcome to join us in person to watch the talk, participate in the discussion, and enjoy some tapas beforehand from 16:30. The title is her talk is "Task Requirements, Time Requirements, and the Gender Gap in Jobs and Pay".<br /> <br /> Microsoft.AspNetCore.Mvc.Rendering.TagBuilder
LOCATION:
URL:https://www.nhh.no/en/calendar/fair/2025/fair-seminar-2025-spring/chinhui-juhn/
END:VEVENT
END:VCALENDAR