BEGIN:VCALENDAR
VERSION:2.0
PRODID:-//NHH //NONSGML v1.0//NO
BEGIN:VEVENT
UID:https://www.nhh.no/en/calendar/fair/2025/fair-seminar-2025-spring/cesar-mantilla/
DTSTAMP:20260424T154954Z
DTSTART:20250515T101500Z
DTEND:20250515T111500Z
SUMMARY:César Mantilla
DESCRIPTION:We invite you to a FAIR Seminar with César Mantilla. César is an Associate Professor in the Economics Department at Pontificia Universidad Javeriana. He uses experimental methods and behavioral modeling to economic decision-making, with an affinity to the fields of development, environmental, and health economics. https://www.nhh.no/en/calendar/fair/2025/fair-seminar-2025-spring/cesar-mantilla/
X-ALT-DESC;FMTTYPE=text/html:We invite you to a FAIR Seminar with César Mantilla. César is an Associate Professor in the Economics Department at Pontificia Universidad Javeriana. He uses experimental methods and behavioral modeling to economic decision-making, with an affinity to the fields of development, environmental, and health economics.<br /> <br /> Microsoft.AspNetCore.Mvc.Rendering.TagBuilder
LOCATION:
URL:https://www.nhh.no/en/calendar/fair/2025/fair-seminar-2025-spring/cesar-mantilla/
END:VEVENT
END:VCALENDAR