BEGIN:VCALENDAR
VERSION:2.0
PRODID:-//NHH //NONSGML v1.0//NO
BEGIN:VEVENT
UID:https://www.nhh.no/en/calendar/fair/2025/fair-seminar-2025-spring/amelie-schiprowski/
DTSTAMP:20260424T155015Z
DTSTART:20251120T111500Z
DTEND:20251120T121500Z
SUMMARY:Amelie Schiprowski
DESCRIPTION:We invite you to a FAIR Seminar with Amelie Schiprowski. Schiprowski is an Assistant Professor of Economics at the University of Bonn, a faculty member at ECONtribune and a research fellow at the Max Planck Institute for Research on Collective Goods. She is also affiliated with CEPR, IZAa and CESifo. https://www.nhh.no/en/calendar/fair/2025/fair-seminar-2025-spring/amelie-schiprowski/
X-ALT-DESC;FMTTYPE=text/html:We invite you to a FAIR Seminar with Amelie Schiprowski. Schiprowski is an Assistant Professor of Economics at the University of Bonn, a faculty member at ECONtribune and a research fellow at the Max Planck Institute for Research on Collective Goods. She is also affiliated with CEPR, IZAa and CESifo.<br /> <br /> Microsoft.AspNetCore.Mvc.Rendering.TagBuilder
LOCATION:FAIR, E209/E210
URL:https://www.nhh.no/en/calendar/fair/2025/fair-seminar-2025-spring/amelie-schiprowski/
END:VEVENT
END:VCALENDAR