BEGIN:VCALENDAR
VERSION:2.0
PRODID:-//NHH //NONSGML v1.0//NO
BEGIN:VEVENT
UID:https://www.nhh.no/en/calendar/fair/2024/fair-seminar-series/matthias-sutter/
DTSTAMP:20260424T154955Z
DTSTART:20241107T111500Z
DTEND:20241107T121500Z
SUMMARY:Matthias Sutter
DESCRIPTION:We invite you to a FAIR Seminar with Matthias Sutter. Matthias is the Director at the Max Planck Institute For Research On Collective Goods, Professor of Economics at Universität Innsbruck, and Professor of Economics at the University of Cologne. His research focuses on (i) the development of economic decision making in childhood and adolescence, (ii) the economics of credence goods, and (iii) how team decision making differs from individual decision making. https://www.nhh.no/en/calendar/fair/2024/fair-seminar-series/matthias-sutter/
X-ALT-DESC;FMTTYPE=text/html:We invite you to a FAIR Seminar with Matthias Sutter. Matthias is the Director at the Max Planck Institute For Research On Collective Goods, Professor of Economics at Universität Innsbruck, and Professor of Economics at the University of Cologne. His research focuses on (i) the development of economic decision making in childhood and adolescence, (ii) the economics of credence goods, and (iii) how team decision making differs from individual decision making.<br /> <br /> Microsoft.AspNetCore.Mvc.Rendering.TagBuilder
LOCATION:
URL:https://www.nhh.no/en/calendar/fair/2024/fair-seminar-series/matthias-sutter/
END:VEVENT
END:VCALENDAR