BEGIN:VCALENDAR
VERSION:2.0
PRODID:-//NHH //NONSGML v1.0//NO
BEGIN:VEVENT
UID:https://www.nhh.no/en/calendar/fair/2024/fair-seminar-series/gordon-dahl/
DTSTAMP:20260424T155024Z
DTSTART:20240912T101500Z
DTEND:20240912T111500Z
SUMMARY:Gordon Dahl
DESCRIPTION:We invite you to a FAIR Seminar with Gordon Dahl. Gordon B. Dahl is a Professor of Economics at the University of California, San Diego. His articles have appeared in the American Economic Review, Econometrica, the Journal of the American Statistical Association, the Journal of Political Economy, the Review of Economic Studies, and the Quarterly Journal of Economics. https://www.nhh.no/en/calendar/fair/2024/fair-seminar-series/gordon-dahl/
X-ALT-DESC;FMTTYPE=text/html:We invite you to a FAIR Seminar with Gordon Dahl. Gordon B. Dahl is a Professor of Economics at the University of California, San Diego. His articles have appeared in the American Economic Review, Econometrica, the Journal of the American Statistical Association, the Journal of Political Economy, the Review of Economic Studies, and the Quarterly Journal of Economics.<br /> <br /> Microsoft.AspNetCore.Mvc.Rendering.TagBuilder
LOCATION:
URL:https://www.nhh.no/en/calendar/fair/2024/fair-seminar-series/gordon-dahl/
END:VEVENT
END:VCALENDAR