BEGIN:VCALENDAR
VERSION:2.0
PRODID:-//NHH //NONSGML v1.0//NO
BEGIN:VEVENT
UID:https://www.nhh.no/en/calendar/fair/2023/fair-seminar/simon-jager/
DTSTAMP:20260424T154955Z
DTSTART:20230914T101500Z
DTEND:20230914T111500Z
SUMMARY:Simon Jäger
DESCRIPTION:We invite you to a seminar with Simon Jäger, Chief Executive Officer of IZA, an Associate Professor of Economics at MIT, and a Faculty Research Fellow at the National Bureau of Economic Research. https://www.nhh.no/en/calendar/fair/2023/fair-seminar/simon-jager/
X-ALT-DESC;FMTTYPE=text/html:We invite you to a seminar with Simon Jäger, Chief Executive Officer of IZA, an Associate Professor of Economics at MIT, and a Faculty Research Fellow at the National Bureau of Economic Research.<br /> <br /> Microsoft.AspNetCore.Mvc.Rendering.TagBuilder
LOCATION:
URL:https://www.nhh.no/en/calendar/fair/2023/fair-seminar/simon-jager/
END:VEVENT
END:VCALENDAR