BEGIN:VCALENDAR
VERSION:2.0
PRODID:-//NHH //NONSGML v1.0//NO
BEGIN:VEVENT
UID:https://www.nhh.no/en/calendar/fair/2022/workshops/the-spring-school-in-behavioral-economics/
DTSTAMP:20260425T002135Z
DTSTART:20221023T070000Z
DTEND:20221028T150000Z
SUMMARY:The Spring School in Behavioral Economics
DESCRIPTION:FAIR invites you to the Spring School in Behavioral Economics. The Spring School is organized by Alexander W. Cappelen, Bertil Tungodden and Uri Gneezy.  https://www.nhh.no/en/calendar/fair/2022/workshops/the-spring-school-in-behavioral-economics/
X-ALT-DESC;FMTTYPE=text/html:FAIR invites you to the Spring School in Behavioral Economics. The Spring School is organized by Alexander W. Cappelen, Bertil Tungodden and Uri Gneezy. <br /> <br /> Microsoft.AspNetCore.Mvc.Rendering.TagBuilder
LOCATION:
URL:https://www.nhh.no/en/calendar/fair/2022/workshops/the-spring-school-in-behavioral-economics/
END:VEVENT
END:VCALENDAR