BEGIN:VCALENDAR
VERSION:2.0
PRODID:-//NHH //NONSGML v1.0//NO
BEGIN:VEVENT
UID:https://www.nhh.no/en/calendar/fair/2022/seminars/seminar-autumn-2022/ragnhild-camilla-schreiner/
DTSTAMP:20260424T155254Z
DTSTART:20221117T111500Z
DTEND:20221116T230000Z
SUMMARY:Ragnhild Camilla Schreiner
DESCRIPTION:Firm-level Technological Change and Skill Demand https://www.nhh.no/en/calendar/fair/2022/seminars/seminar-autumn-2022/ragnhild-camilla-schreiner/
X-ALT-DESC;FMTTYPE=text/html:Firm-level Technological Change and Skill Demand<br /> <br /> Microsoft.AspNetCore.Mvc.Rendering.TagBuilder
LOCATION:E209/E210
URL:https://www.nhh.no/en/calendar/fair/2022/seminars/seminar-autumn-2022/ragnhild-camilla-schreiner/
END:VEVENT
END:VCALENDAR