BEGIN:VCALENDAR
VERSION:2.0
PRODID:-//NHH //NONSGML v1.0//NO
BEGIN:VEVENT
UID:https://www.nhh.no/en/calendar/fair/2022/seminars/seminar-autumn-2022/lea-cassar/
DTSTAMP:20260424T155121Z
DTSTART:20220908T101500Z
DTEND:20220908T111500Z
SUMMARY:Lea Cassar
DESCRIPTION:Keep Calm and Carry On: The Short vs. Long Run Effects of Mindfulness Meditation on Academic Performance https://www.nhh.no/en/calendar/fair/2022/seminars/seminar-autumn-2022/lea-cassar/
X-ALT-DESC;FMTTYPE=text/html:Keep Calm and Carry On: The Short vs. Long Run Effects of Mindfulness Meditation on Academic Performance<br /> <br /> Microsoft.AspNetCore.Mvc.Rendering.TagBuilder
LOCATION:
URL:https://www.nhh.no/en/calendar/fair/2022/seminars/seminar-autumn-2022/lea-cassar/
END:VEVENT
END:VCALENDAR