BEGIN:VCALENDAR
VERSION:2.0
PRODID:-//NHH //NONSGML v1.0//NO
BEGIN:VEVENT
UID:https://www.nhh.no/en/calendar/fair/2021/seminars/seminar-v21/ghazala-azmat/
DTSTAMP:20260424T155013Z
DTSTART:20210318T111500Z
DTEND:20210318T121500Z
SUMMARY:Gender Promotion Gaps: Career Aspirations and Workplace Discrimination 
DESCRIPTION:Guest speaker for the FAIR seminar series in 2021, Ghazala Azmat, Professor of Economics from Sciences Po. https://www.nhh.no/en/calendar/fair/2021/seminars/seminar-v21/ghazala-azmat/
X-ALT-DESC;FMTTYPE=text/html:Guest speaker for the FAIR seminar series in 2021, Ghazala Azmat, Professor of Economics from Sciences Po.<br /> <br /> Microsoft.AspNetCore.Mvc.Rendering.TagBuilder
LOCATION:
URL:https://www.nhh.no/en/calendar/fair/2021/seminars/seminar-v21/ghazala-azmat/
END:VEVENT
END:VCALENDAR