BEGIN:VCALENDAR
VERSION:2.0
PRODID:-//NHH //NONSGML v1.0//NO
BEGIN:VEVENT
UID:https://www.nhh.no/en/calendar/fair/2021/seminars/seminar-v21/esther-ann-boler/
DTSTAMP:20260424T155013Z
DTSTART:20210610T101500Z
DTEND:20210610T111500Z
SUMMARY:Esther Ann Bøler
DESCRIPTION:One of our guest speakers for the FAIR seminar series in 2021 is Esther Ann Bøler. Bøler is an Assistant Professor at Imperial College Business School. https://www.nhh.no/en/calendar/fair/2021/seminars/seminar-v21/esther-ann-boler/
X-ALT-DESC;FMTTYPE=text/html:One of our guest speakers for the FAIR seminar series in 2021 is Esther Ann Bøler. Bøler is an Assistant Professor at Imperial College Business School.<br /> <br /> Microsoft.AspNetCore.Mvc.Rendering.TagBuilder
LOCATION:
URL:https://www.nhh.no/en/calendar/fair/2021/seminars/seminar-v21/esther-ann-boler/
END:VEVENT
END:VCALENDAR