BEGIN:VCALENDAR
VERSION:2.0
PRODID:-//NHH //NONSGML v1.0//NO
BEGIN:VEVENT
UID:https://www.nhh.no/en/calendar/fair/2021/seminars/seminar-autumn-2021/johannes-haushofer/
DTSTAMP:20260424T154420Z
DTSTART:20211007T100000Z
DTEND:20211007T110000Z
SUMMARY:The Comparative Impact of Cash Transfers and a Psychotherapy Program on Psychological and Economic Well-being
DESCRIPTION:FAIR invites you to a seminar with Johannes Haushofer, Associate professor of economics at the Stockholm University. He is interested in understanding whether poverty has particular psychological and neurobiological consequences, and whether these consequences, in turn, affect economic behavior. https://www.nhh.no/en/calendar/fair/2021/seminars/seminar-autumn-2021/johannes-haushofer/
X-ALT-DESC;FMTTYPE=text/html:FAIR invites you to a seminar with Johannes Haushofer, Associate professor of economics at the Stockholm University. He is interested in understanding whether poverty has particular psychological and neurobiological consequences, and whether these consequences, in turn, affect economic behavior.<br /> <br /> Microsoft.AspNetCore.Mvc.Rendering.TagBuilder
LOCATION:ZOOM
URL:https://www.nhh.no/en/calendar/fair/2021/seminars/seminar-autumn-2021/johannes-haushofer/
END:VEVENT
END:VCALENDAR