BEGIN:VCALENDAR
VERSION:2.0
PRODID:-//NHH //NONSGML v1.0//NO
BEGIN:VEVENT
UID:https://www.nhh.no/en/calendar/fair/2021/seminars/seminar-autumn-2021/joel-van-der-weele/
DTSTAMP:20260424T155115Z
DTSTART:20211028T101500Z
DTEND:20211028T111500Z
SUMMARY:Fair Shares and Selective Attention 
DESCRIPTION:FAIR invites you to a seminar with Joël van der Weele, Associate Professor at the Center for Research in Experimental Economics and political Decision making (CREED) at the University of Amsterdam, and fellow at the Tinbergen Institute and the Amsterdam Brain and Cognition center. His research lies at the intersection of economics and psychology, and he applies the tools of experimental economics and game theory. https://www.nhh.no/en/calendar/fair/2021/seminars/seminar-autumn-2021/joel-van-der-weele/
X-ALT-DESC;FMTTYPE=text/html:FAIR invites you to a seminar with Joël van der Weele, Associate Professor at the Center for Research in Experimental Economics and political Decision making (CREED) at the University of Amsterdam, and fellow at the Tinbergen Institute and the Amsterdam Brain and Cognition center. His research lies at the intersection of economics and psychology, and he applies the tools of experimental economics and game theory.<br /> <br /> Microsoft.AspNetCore.Mvc.Rendering.TagBuilder
LOCATION:ZOOM
URL:https://www.nhh.no/en/calendar/fair/2021/seminars/seminar-autumn-2021/joel-van-der-weele/
END:VEVENT
END:VCALENDAR