BEGIN:VCALENDAR
VERSION:2.0
PRODID:-//NHH //NONSGML v1.0//NO
BEGIN:VEVENT
UID:https://www.nhh.no/en/calendar/fair/2021/seminars/seminar-autumn-2021/frederik-schwerter/
DTSTAMP:20260424T155117Z
DTSTART:20211125T111500Z
DTEND:20211125T121500Z
SUMMARY:Associative Memory and Belief Formation
DESCRIPTION:FAIR invites you to a seminar with Frederik Schwerter. https://www.nhh.no/en/calendar/fair/2021/seminars/seminar-autumn-2021/frederik-schwerter/
X-ALT-DESC;FMTTYPE=text/html:FAIR invites you to a seminar with Frederik Schwerter.<br /> <br /> Microsoft.AspNetCore.Mvc.Rendering.TagBuilder
LOCATION:
URL:https://www.nhh.no/en/calendar/fair/2021/seminars/seminar-autumn-2021/frederik-schwerter/
END:VEVENT
END:VCALENDAR