BEGIN:VCALENDAR
VERSION:2.0
PRODID:-//NHH //NONSGML v1.0//NO
BEGIN:VEVENT
UID:https://www.nhh.no/en/calendar/fair/2021/seminars/seminar-autumn-2021/christopher-rauh/
DTSTAMP:20260424T155014Z
DTSTART:20211104T111500Z
DTEND:20211104T121500Z
SUMMARY:Maternal Labor Supply: Perceived Returns, Constraints, and Social Norms
DESCRIPTION:FAIR invites you to a seminar with Christopher Rauh, Assistant Professor at the University of Cambridge. Rauh's fields of interest are labour economics and political economy.

 https://www.nhh.no/en/calendar/fair/2021/seminars/seminar-autumn-2021/christopher-rauh/
X-ALT-DESC;FMTTYPE=text/html:FAIR invites you to a seminar with Christopher Rauh, Assistant Professor at the University of Cambridge. Rauh's fields of interest are labour economics and political economy.

<br /> <br /> Microsoft.AspNetCore.Mvc.Rendering.TagBuilder
LOCATION:Zoom
URL:https://www.nhh.no/en/calendar/fair/2021/seminars/seminar-autumn-2021/christopher-rauh/
END:VEVENT
END:VCALENDAR