BEGIN:VCALENDAR
VERSION:2.0
PRODID:-//NHH //NONSGML v1.0//NO
BEGIN:VEVENT
UID:https://www.nhh.no/en/calendar/fair/2020/seminars/johanna-rickne/
DTSTAMP:20260424T155148Z
DTSTART:20200903T101500Z
DTEND:20200903T111500Z
SUMMARY:Sexual harassment and gender inequality
DESCRIPTION:FAIR invites you to an online seminar with Johanna Rickne from Stockholm University https://www.nhh.no/en/calendar/fair/2020/seminars/johanna-rickne/
X-ALT-DESC;FMTTYPE=text/html:FAIR invites you to an online seminar with Johanna Rickne from Stockholm University<br /> <br /> Microsoft.AspNetCore.Mvc.Rendering.TagBuilder
LOCATION:
URL:https://www.nhh.no/en/calendar/fair/2020/seminars/johanna-rickne/
END:VEVENT
END:VCALENDAR