BEGIN:VCALENDAR
VERSION:2.0
PRODID:-//NHH //NONSGML v1.0//NO
BEGIN:VEVENT
UID:https://www.nhh.no/en/calendar/fair/2019/spring/seminars/gordon-dahl/
DTSTAMP:20260424T154120Z
DTSTART:20190321T111500Z
DTEND:20190321T121500Z
SUMMARY:Gordon Dahl
DESCRIPTION:FAIR invites you to a seminar with Gordon Dahl, Professor of Economics at the University of California, San Diego. He is also a Research Associate of the National Bureau of Economic Research, a Research Fellow of the Institute for the Study of Labor (IZA), a CESifo Research Fellow, and a Fellow of the Stanford Center for the Study of Poverty and Inequality. https://www.nhh.no/en/calendar/fair/2019/spring/seminars/gordon-dahl/
X-ALT-DESC;FMTTYPE=text/html:FAIR invites you to a seminar with Gordon Dahl, Professor of Economics at the University of California, San Diego. He is also a Research Associate of the National Bureau of Economic Research, a Research Fellow of the Institute for the Study of Labor (IZA), a CESifo Research Fellow, and a Fellow of the Stanford Center for the Study of Poverty and Inequality.<br /> <br /> Microsoft.AspNetCore.Mvc.Rendering.TagBuilder
LOCATION:E209/E210
URL:https://www.nhh.no/en/calendar/fair/2019/spring/seminars/gordon-dahl/
END:VEVENT
END:VCALENDAR