BEGIN:VCALENDAR
VERSION:2.0
PRODID:-//NHH //NONSGML v1.0//NO
BEGIN:VEVENT
UID:https://www.nhh.no/en/calendar/fair/2018/seminars/autumn/prashant-bharadwaj/
DTSTAMP:20260424T154955Z
DTSTART:20180906T101500Z
DTEND:20180906T111500Z
SUMMARY:Prashant Bharadwaj
DESCRIPTION:FAIR invites you to a seminar with Prashant Bharadwaj, Associate Professor in the Department of Economics at the University of California, San Diego. https://www.nhh.no/en/calendar/fair/2018/seminars/autumn/prashant-bharadwaj/
X-ALT-DESC;FMTTYPE=text/html:FAIR invites you to a seminar with Prashant Bharadwaj, Associate Professor in the Department of Economics at the University of California, San Diego.<br /> <br /> Microsoft.AspNetCore.Mvc.Rendering.TagBuilder
LOCATION:E209/E210
URL:https://www.nhh.no/en/calendar/fair/2018/seminars/autumn/prashant-bharadwaj/
END:VEVENT
END:VCALENDAR