BEGIN:VCALENDAR
VERSION:2.0
PRODID:-//NHH //NONSGML v1.0//NO
BEGIN:VEVENT
UID:https://www.nhh.no/en/calendar/fair/2017/fall-2017/hale-utar/
DTSTAMP:20260424T154824Z
DTSTART:20171005T101500Z
DTEND:20171005T111500Z
SUMMARY:Workers beneath the Floodgates: Low-Wage Import Competition and Workers’ Adjustment
DESCRIPTION:CELE invites you to a FAIR seminar with Hale Utar (Bielefeld University) on October 5. https://www.nhh.no/en/calendar/fair/2017/fall-2017/hale-utar/
X-ALT-DESC;FMTTYPE=text/html:CELE invites you to a FAIR seminar with Hale Utar (Bielefeld University) on October 5.<br /> <br /> Microsoft.AspNetCore.Mvc.Rendering.TagBuilder
LOCATION:
URL:https://www.nhh.no/en/calendar/fair/2017/fall-2017/hale-utar/
END:VEVENT
END:VCALENDAR