BEGIN:VCALENDAR
VERSION:2.0
PRODID:-//NHH //NONSGML v1.0//NO
BEGIN:VEVENT
UID:https://www.nhh.no/en/calendar/economics/v-2023/gender-diversity-in-organisations-and-careers/
DTSTAMP:20260424T195426Z
DTSTART:20230627T060000Z
DTEND:20230628T170000Z
SUMMARY:Gender Diversity in Organisations and Careers 
DESCRIPTION:The workshop is organised by Astrid Kunze (Norwegian School of Economics) and Marco Francesconi (University of Essex), and funded by the Norwegian Research Council. https://www.nhh.no/en/calendar/economics/v-2023/gender-diversity-in-organisations-and-careers/
X-ALT-DESC;FMTTYPE=text/html:The workshop is organised by Astrid Kunze (Norwegian School of Economics) and Marco Francesconi (University of Essex), and funded by the Norwegian Research Council.<br /> <br /> Microsoft.AspNetCore.Mvc.Rendering.TagBuilder
LOCATION:
URL:https://www.nhh.no/en/calendar/economics/v-2023/gender-diversity-in-organisations-and-careers/
END:VEVENT
END:VCALENDAR