BEGIN:VCALENDAR
VERSION:2.0
PRODID:-//NHH //NONSGML v1.0//NO
BEGIN:VEVENT
UID:https://www.nhh.no/en/calendar/economics/2026/beccle_2026/
DTSTAMP:20260424T123134Z
DTSTART:20260604T060000Z
DTEND:20260605T150000Z
SUMMARY:BECCLE CONFERENCE
DESCRIPTION:The conference combines invited sessions with accomplished speakers and open sessions with presentations and discussions of original research papers in the fields of competition law and competition economics. https://www.nhh.no/en/calendar/economics/2026/beccle_2026/
X-ALT-DESC;FMTTYPE=text/html:The conference combines invited sessions with accomplished speakers and open sessions with presentations and discussions of original research papers in the fields of competition law and competition economics.<br /> <br /> Microsoft.AspNetCore.Mvc.Rendering.TagBuilder
LOCATION:
URL:https://www.nhh.no/en/calendar/economics/2026/beccle_2026/
END:VEVENT
END:VCALENDAR