BEGIN:VCALENDAR
VERSION:2.0
PRODID:-//NHH //NONSGML v1.0//NO
BEGIN:VEVENT
UID:https://www.nhh.no/en/calendar/dig/2025/innovation-2025/
DTSTAMP:20260424T182950Z
DTSTART:20250212T080000Z
DTEND:20250212T093000Z
SUMMARY:Sosial profittorientering (SPO) og bærekraftig vekst
DESCRIPTION:Sosial profittorientering, kombinert med innsikt fra Norsk Innovasjonsindeks, fremhever hvordan sosiale innovasjoner kan drive bærekraftig økonomisk vekst. Ved å balansere samfunnsansvar og forretningsmessige mål, skapes verdier som gagner både virksomheter og samfunnet som helhet. https://www.nhh.no/en/calendar/dig/2025/innovation-2025/
X-ALT-DESC;FMTTYPE=text/html:Sosial profittorientering, kombinert med innsikt fra Norsk Innovasjonsindeks, fremhever hvordan sosiale innovasjoner kan drive bærekraftig økonomisk vekst. Ved å balansere samfunnsansvar og forretningsmessige mål, skapes verdier som gagner både virksomheter og samfunnet som helhet.<br /> <br /> Microsoft.AspNetCore.Mvc.Rendering.TagBuilder
LOCATION:NHH Campus Oslo, Drammensveien 44
URL:https://www.nhh.no/en/calendar/dig/2025/innovation-2025/
END:VEVENT
END:VCALENDAR