BEGIN:VCALENDAR
VERSION:2.0
PRODID:-//NHH //NONSGML v1.0//NO
BEGIN:VEVENT
UID:https://www.nhh.no/kalender/konferanser/varkonferansen/
DTSTAMP:20260424T123510Z
DTSTART:20260528T100000Z
DTEND:20260528T153000Z
SUMMARY:En verdensorden i spill: Strategi og styring under usikkerhet
DESCRIPTION:Vårkonferansen samler ledere, fagpersoner og bransjeaktører for en dag med innsikt, diskusjoner og perspektiver på utviklingen i økonomi, teknologi og samfunn. Konferansen kombinerer faglige innlegg, panelsamtaler og nettverksbygging – og gir deltakerne et solid grunnlag for å forstå morgendagens utfordringer. https://www.nhh.no/kalender/konferanser/varkonferansen/
X-ALT-DESC;FMTTYPE=text/html:Vårkonferansen samler ledere, fagpersoner og bransjeaktører for en dag med innsikt, diskusjoner og perspektiver på utviklingen i økonomi, teknologi og samfunn. Konferansen kombinerer faglige innlegg, panelsamtaler og nettverksbygging – og gir deltakerne et solid grunnlag for å forstå morgendagens utfordringer.<br /> <br /> Microsoft.AspNetCore.Mvc.Rendering.TagBuilder
LOCATION:NHH
URL:https://www.nhh.no/kalender/konferanser/varkonferansen/
END:VEVENT
END:VCALENDAR