BEGIN:VCALENDAR
VERSION:2.0
PRODID:-//NHH //NONSGML v1.0//NO
BEGIN:VEVENT
UID:https://www.nhh.no/kalender/alumni/2026/lederskap-i-100/
DTSTAMP:20260424T123134Z
DTSTART:20260611T150000Z
DTEND:20260611T190000Z
SUMMARY:Lederskap i 100: Følelser og ledelse
DESCRIPTION:AFF og NHH Alumni inviterer til liveinnspilling av episode #100 av "Lederskap", og lansering av boken Følelser og ledelse. Podcasten ledes av professor Therese Egeland og førsteamanuensis Joel Berge. Kveldens gjest er Marius Jones, seniorkonsulent AFF og forfatter av den ferske boken. Han var også Thereses første podcast-makker da han var NHH-stipendiat. https://www.nhh.no/kalender/alumni/2026/lederskap-i-100/
X-ALT-DESC;FMTTYPE=text/html:AFF og NHH Alumni inviterer til liveinnspilling av episode #100 av "Lederskap", og lansering av boken Følelser og ledelse. Podcasten ledes av professor Therese Egeland og førsteamanuensis Joel Berge. Kveldens gjest er Marius Jones, seniorkonsulent AFF og forfatter av den ferske boken. Han var også Thereses første podcast-makker da han var NHH-stipendiat.<br /> <br /> Microsoft.AspNetCore.Mvc.Rendering.TagBuilder
LOCATION:Drammensveien 44, Oslo
URL:https://www.nhh.no/kalender/alumni/2026/lederskap-i-100/
END:VEVENT
END:VCALENDAR