BEGIN:VCALENDAR
VERSION:2.0
PRODID:-//NHH //NONSGML v1.0//NO
BEGIN:VEVENT
UID:https://www.nhh.no/kalender/2026/oktober/alumnisamling-for-emba-kandidater/
DTSTAMP:20260424T124255Z
DTSTART:20261009T070000Z
DTEND:20261009T100000Z
SUMMARY:Alumnisamling for EMBA-kandidater
DESCRIPTION:NHH Executive invitere til ekslusiv alumnisamling i forkant av NHHs alumnikonferanse. Bli inspirert og oppdatert på det siste innen både forskning og næringsliv. Møt toneangivende forskere, sentrale agendasettere og - ikke minst -  andre EMBA-alumni. Program og påmelding kommer! https://www.nhh.no/kalender/2026/oktober/alumnisamling-for-emba-kandidater/
X-ALT-DESC;FMTTYPE=text/html:NHH Executive invitere til ekslusiv alumnisamling i forkant av NHHs alumnikonferanse. Bli inspirert og oppdatert på det siste innen både forskning og næringsliv. Møt toneangivende forskere, sentrale agendasettere og - ikke minst -  andre EMBA-alumni. Program og påmelding kommer!<br /> <br /> Microsoft.AspNetCore.Mvc.Rendering.TagBuilder
LOCATION:Clarion Hotel The Hub, Oslo
URL:https://www.nhh.no/kalender/2026/oktober/alumnisamling-for-emba-kandidater/
END:VEVENT
END:VCALENDAR