BEGIN:VCALENDAR
VERSION:2.0
PRODID:-//NHH //NONSGML v1.0//NO
BEGIN:VEVENT
UID:https://www.nhh.no/kalender/2026/juni/digital-alumnisamling-for-emba/
DTSTAMP:20260424T123133Z
DTSTART:20260603T063000Z
DTEND:20260603T073000Z
SUMMARY:Digital samling for EMBA-alumni
DESCRIPTION:NHH Executive inviterer deg til en digital alumnisamling for EMBA! Bli med oss for en inspirerende session med fokus på nettverksbygging og faglig påfyll. Dette er en ypperlig anledning til å opprettholde kontakten og styrke din kunnskap sammen med andre EMBA-kandidater. https://www.nhh.no/kalender/2026/juni/digital-alumnisamling-for-emba/
X-ALT-DESC;FMTTYPE=text/html:NHH Executive inviterer deg til en digital alumnisamling for EMBA! Bli med oss for en inspirerende session med fokus på nettverksbygging og faglig påfyll. Dette er en ypperlig anledning til å opprettholde kontakten og styrke din kunnskap sammen med andre EMBA-kandidater.<br /> <br /> Microsoft.AspNetCore.Mvc.Rendering.TagBuilder
LOCATION:Digitalt
URL:https://www.nhh.no/kalender/2026/juni/digital-alumnisamling-for-emba/
END:VEVENT
END:VCALENDAR