BEGIN:VCALENDAR
VERSION:2.0
PRODID:-//NHH //NONSGML v1.0//NO
BEGIN:VEVENT
UID:https://www.nhh.no/en/calendar/2025/august/welcome-week-for-new-students/
DTSTAMP:20260424T143010Z
DTSTART:20250811T073000Z
DTEND:20250817T150000Z
SUMMARY:Welcome week for all new students
DESCRIPTION:Welcome Week at NHH is designed to equip you with the essential information, resources, and connections you need to make a great start—both at NHH and in Bergen. It’s your introduction to student life, academic expectations, and the vibrant community you’re now a part of. For all international students, the programme starts on 8 August. NHH Welcome Week 2025: Inclusive, Informative, Unforgettable!  https://www.nhh.no/en/calendar/2025/august/welcome-week-for-new-students/
X-ALT-DESC;FMTTYPE=text/html:Welcome Week at NHH is designed to equip you with the essential information, resources, and connections you need to make a great start—both at NHH and in Bergen. It’s your introduction to student life, academic expectations, and the vibrant community you’re now a part of. For all international students, the programme starts on 8 August. NHH Welcome Week 2025: Inclusive, Informative, Unforgettable! <br /> <br /> Microsoft.AspNetCore.Mvc.Rendering.TagBuilder
LOCATION:NHH Campus, Bergen
URL:https://www.nhh.no/en/calendar/2025/august/welcome-week-for-new-students/
END:VEVENT
END:VCALENDAR